BEGIN:VCALENDAR
VERSION:2.0
PRODID:-//RotaryScrape//Calendar//EN
CALSCALE:GREGORIAN
METHOD:PUBLISH
X-WR-CALNAME:Rotary Events
X-WR-TIMEZONE:America/Los_Angeles
BEGIN:VEVENT
UID:77892387@rotaryscrape
DTSTAMP:20260423T165432Z
DTSTART:20260424T080000Z
DTEND:20260424T090000Z
SUMMARY:2026 Unite for Good Multi District Conference
LOCATION:April 24-26 This year's conference will be held jointly with Rotarians from neighboring districts 5300\, 5330 and 5340. It will be our opportunity to meet Rotarians from clubs in those districts and share project ideas\, do informing workshops\, participate in three service projects\, hear interesting speakers\, enjoy good food and drinks\, and\, of course\, have fun.  Registration is open now! Use this link to find out more information about the conference and to register and book your hotel room:&nbsp\;https://unitedforgood2026.com/
DESCRIPTION:What To Expect Dynamic Speakers&nbsp\;– Hear from Rotary International leaders\, innovators\, and community changemakers.  Hands-On Service&nbsp\;– Join one of three life-changing Saturday projects that make real impact.  Training &amp\; Workshops&nbsp\;– Build skills\, strengthen clubs\, and ignite new ideas.  Celebration &amp\; Connection&nbsp\;– Enjoy entertainment\, fellowship\, and tributes to veterans and Rotarians we honor.  Parking On-Site Parking: $45.00 Daily Valet Parking: $65.00 Daily Electric Car Charging Station Available Shuttle Chula Vista Bayfront Shuttle Trolley System
URL:https://dacdb.com/Calendar/Event.cfm?EventID=77892387
STATUS:CONFIRMED
END:VEVENT
BEGIN:VEVENT
UID:77808795@rotaryscrape
DTSTAMP:20260423T165432Z
DTSTART:20260424T170000Z
DTEND:20260424T180000Z
SUMMARY:Multi-District Conference 2026 - Chula Vista
LOCATION:REGISTER NOW at&nbsp\;https://unitedforgood2026.com/ April 24 – 26\, 2026 Gaylord Pacific Resort &amp\; Convention Center\, Chula Vista\, California
DESCRIPTION:REGISTER NOW at&nbsp\;https://unitedforgood2026.com/ Better Together - Better The World  Join Rotarians\, Rotaractors\, and partners in service from across Southern California and Southern Nevada for a weekend of inspiration\, collaboration\, and hands-on action at the breathtaking Gaylord Pacific Resort.  April 24 – 26\, 2026 Gaylord Pacific Resort &amp\; Convention Center\, Chula Vista\, California
URL:https://dacdb.com/Calendar/Event.cfm?EventID=77808795
STATUS:CONFIRMED
END:VEVENT
BEGIN:VEVENT
UID:77910319@rotaryscrape
DTSTAMP:20260423T165432Z
DTSTART:20260426T100000Z
DTEND:20260426T110000Z
SUMMARY:Districts 5300\, 5320\, 5330\, &amp\; 5340 Appreciation Brunch
LOCATION:&nbsp\; 
DESCRIPTION:Description: Join us for a special District Appreciation Brunch as we recognize and thank our conference speakers\, Sergeant-at-Arms\, committee members\, and major donors for their service and support.  Registration &amp\; Guest Types: $30 – Past District Governors (PDGs) $30 – Guests (optional – include only if needed) Complimentary – VIPs (guest speakers\, special guests\, conference committee)  Brunch Menu (Please select one): All meals include one non-alcoholic beverage (coffee\, tea\, or soda). Additional beverages are available for purchase at the bar.  	Chicken Fried Steak 	Breaded and fried steak with two eggs any style\, hash browns\, and toast  	Spinach Omelets 	Bacon\, tomatoes\, and Jack cheese\, served with toast and hash browns  	French Toast 	Thick-sliced egg bread in vanilla-orange batter\, topped with powdered sugar  	Green or Red Chilaquiles 	Served with eggs\, beans\, sour cream\, and onion      Walking Directions from Hotel: From Gaylord Pacific Resort &amp\; Convention Center (1000 H St)\, the walk is approximately 10 minutes along the Chula Vista bayfront.   	Exit the hotel toward Marina Parkway  	Head west/southwest toward the bayfront  	Follow Marina Parkway along the scenic waterfront path  	Continue toward the South Bay marina area  	The Galley at the Marina is located within the marina complex   Additional Note (Non-Rotary Event): no registration link just FYI  Guests are welcome to stay and enjoy the patio afterward. VIP seating available for $5 Sunday\, April 26 | 3:00 PM – 7:00 PM
URL:https://dacdb.com/Calendar/Event.cfm?EventID=77910319
STATUS:CONFIRMED
END:VEVENT
BEGIN:VEVENT
UID:77880021@rotaryscrape
DTSTAMP:20260423T165432Z
DTSTART:20260502T080000Z
DTEND:20260502T090000Z
SUMMARY:RLI - Part I\, II\, III and Graduate-District 5330-Beaumont\, CA
LOCATION:Beaumont Presbyterian Church 702 Euclid Avenue Beaumont\, CA 92223  Courses: Parts I\, II and III Cost: $45.00 Time: 8:00 am - 3:30 p.m.  For more information\, contact Rudy Westervelt at rudywestervelt@gmail.com &nbsp\;  	 		 			&nbsp\; 			&nbsp\; 		 	   &nbsp\;
DESCRIPTION:  Rotary Leadership Institute RLI - Dynamic\, Interactive &amp\; Fun Event for New Rotarians and Prospective &amp\; Existing Rotary Club Leaders.&nbsp\;Network\, Share and Learn with the Do'ers of Rotary.&nbsp\;
URL:https://dacdb.com/Calendar/Event.cfm?EventID=77880021
STATUS:CONFIRMED
END:VEVENT
BEGIN:VEVENT
UID:77910305@rotaryscrape
DTSTAMP:20260423T165432Z
DTSTART:20260509T083000Z
DTEND:20260509T093000Z
SUMMARY:Grants Management Seminar
URL:https://dacdb.com/Calendar/Event.cfm?EventID=77910305
STATUS:CONFIRMED
END:VEVENT
BEGIN:VEVENT
UID:77853011@rotaryscrape
DTSTAMP:20260423T165432Z
DTSTART:20260515T080000Z
DTEND:20260515T090000Z
SUMMARY:DG Line Meeting
DESCRIPTION:We will meet the Third Thursday each month.&nbsp\;&nbsp\; &nbsp\; Craig Livingston is inviting you to a scheduled Zoom meeting.  Join Zoom Meeting  https://us02web.zoom.us/j/87144982182?pwd=xALbqJqnF0cTl2D8ncOfReYBrbhbUK.1  &nbsp\;  Meeting ID: 871 4498 2182  Passcode: 115832  &nbsp\;  ---  &nbsp\;  One tap mobile  +14086380968\,\,87144982182#\,\,\,\,*115832# US (San Jose)  +16694449171\,\,87144982182#\,\,\,\,*115832# US  &nbsp\;  ---  &nbsp\;  Dial by your location  • +1 408 638 0968 US (San Jose)  • +1 669 444 9171 US  • +1 669 900 6833 US (San Jose)  • +1 346 248 7799 US (Houston)  • +1 719 359 4580 US  • +1 253 205 0468 US  • +1 253 215 8782 US (Tacoma)  • +1 507 473 4847 US  • +1 564 217 2000 US  • +1 646 876 9923 US (New York)  • +1 646 931 3860 US  • +1 689 278 1000 US  • +1 301 715 8592 US (Washington DC)  • +1 305 224 1968 US  • +1 309 205 3325 US  • +1 312 626 6799 US (Chicago)  • +1 360 209 5623 US  • +1 386 347 5053 US  &nbsp\;  Meeting ID: 871 4498 2182  Passcode: 115832  &nbsp\;  Find your local number: https://us02web.zoom.us/u/kdLKCQyvq  &nbsp\;
URL:https://dacdb.com/Calendar/Event.cfm?EventID=77853011
STATUS:CONFIRMED
END:VEVENT
BEGIN:VEVENT
UID:77877184@rotaryscrape
DTSTAMP:20260423T165432Z
DTSTART:20260515T080000Z
DTEND:20260515T090000Z
SUMMARY:District Governor Line Meeting
DESCRIPTION:Craig Livingston is inviting you to a scheduled Zoom meeting. Join Zoom Meeting https://us02web.zoom.us/j/87144982182?pwd=xALbqJqnF0cTl2D8ncOfReYBrbhbUK.1  Meeting ID: 871 4498 2182 Passcode: 115832 &nbsp\;
URL:https://dacdb.com/Calendar/Event.cfm?EventID=77877184
STATUS:CONFIRMED
END:VEVENT
BEGIN:VEVENT
UID:77911013@rotaryscrape
DTSTAMP:20260423T165432Z
DTSTART:20260516T080000Z
DTEND:20260516T090000Z
SUMMARY:The Rotary Route: Whittier Mental Health Walk
LOCATION:https://www.givsum.com/opportunities/the-rotary-route-whittier-walk-for-mental-wellness-3c67d3914  &nbsp\;
DESCRIPTION:https://www.givsum.com/opportunities/the-rotary-route-whittier-walk-for-mental-wellness-3c67d3914
URL:https://dacdb.com/Calendar/Event.cfm?EventID=77911013
STATUS:CONFIRMED
END:VEVENT
BEGIN:VEVENT
UID:77911011@rotaryscrape
DTSTAMP:20260423T165432Z
DTSTART:20260516T100000Z
DTEND:20260516T110000Z
SUMMARY:The Rotary Route: San Clemente Mental Health Walk
DESCRIPTION: 
URL:https://dacdb.com/Calendar/Event.cfm?EventID=77911011
STATUS:CONFIRMED
END:VEVENT
BEGIN:VEVENT
UID:77909788@rotaryscrape
DTSTAMP:20260423T165432Z
DTSTART:20260526T160000Z
DTEND:20260526T170000Z
SUMMARY:May Finance Committee Meeting
LOCATION:Topic: May Finance Committee Meeting&nbsp\; Time: May 26\, 2026 04:00 PM Pacific Time (US and Canada) Join Zoom Meeting https://us02web.zoom.us/j/81828452716?pwd=KlDHj7sctZhYPRWE9YEAaMquvfQyQm.1   Meeting ID: 818 2845 2716 Passcode: 393574
DESCRIPTION:Topic: May Finance Committee Meeting&nbsp\; Time: May 26\, 2026 04:00 PM Pacific Time (US and Canada) Join Zoom Meeting https://us02web.zoom.us/j/81828452716?pwd=KlDHj7sctZhYPRWE9YEAaMquvfQyQm.1   Meeting ID: 818 2845 2716 Passcode: 393574 &nbsp\;
URL:https://dacdb.com/Calendar/Event.cfm?EventID=77909788
STATUS:CONFIRMED
END:VEVENT
BEGIN:VEVENT
UID:77909790@rotaryscrape
DTSTAMP:20260423T165432Z
DTSTART:20260602T160000Z
DTEND:20260602T170000Z
SUMMARY:June Advisory Board Meeting
LOCATION:Rotary D5320 is inviting you to a scheduled Zoom meeting.   Topic: June Advisory Board Meeting Time: Jun 2\, 2026 04:00 PM Pacific Time (US and Canada) Join Zoom Meeting https://us02web.zoom.us/j/84423528305?pwd=ReRbFSFn7GrZUlWI3KARYkFxo5sseP.1     Meeting ID: 844 2352 8305 Passcode: 300222  &nbsp\;
DESCRIPTION:Rotary D5320 is inviting you to a scheduled Zoom meeting.   Topic: June Advisory Board Meeting Time: Jun 2\, 2026 04:00 PM Pacific Time (US and Canada) Join Zoom Meeting https://us02web.zoom.us/j/84423528305?pwd=ReRbFSFn7GrZUlWI3KARYkFxo5sseP.1     Meeting ID: 844 2352 8305 Passcode: 300222  &nbsp\;
URL:https://dacdb.com/Calendar/Event.cfm?EventID=77909790
STATUS:CONFIRMED
END:VEVENT
BEGIN:VEVENT
UID:77853012@rotaryscrape
DTSTAMP:20260423T165432Z
DTSTART:20260619T080000Z
DTEND:20260619T090000Z
SUMMARY:DG Line Meeting
DESCRIPTION:We will meet the Third Thursday each month.&nbsp\;&nbsp\; &nbsp\; Craig Livingston is inviting you to a scheduled Zoom meeting.  Join Zoom Meeting  https://us02web.zoom.us/j/87144982182?pwd=xALbqJqnF0cTl2D8ncOfReYBrbhbUK.1  &nbsp\;  Meeting ID: 871 4498 2182  Passcode: 115832  &nbsp\;  ---  &nbsp\;  One tap mobile  +14086380968\,\,87144982182#\,\,\,\,*115832# US (San Jose)  +16694449171\,\,87144982182#\,\,\,\,*115832# US  &nbsp\;  ---  &nbsp\;  Dial by your location  • +1 408 638 0968 US (San Jose)  • +1 669 444 9171 US  • +1 669 900 6833 US (San Jose)  • +1 346 248 7799 US (Houston)  • +1 719 359 4580 US  • +1 253 205 0468 US  • +1 253 215 8782 US (Tacoma)  • +1 507 473 4847 US  • +1 564 217 2000 US  • +1 646 876 9923 US (New York)  • +1 646 931 3860 US  • +1 689 278 1000 US  • +1 301 715 8592 US (Washington DC)  • +1 305 224 1968 US  • +1 309 205 3325 US  • +1 312 626 6799 US (Chicago)  • +1 360 209 5623 US  • +1 386 347 5053 US  &nbsp\;  Meeting ID: 871 4498 2182  Passcode: 115832  &nbsp\;  Find your local number: https://us02web.zoom.us/u/kdLKCQyvq  &nbsp\;
URL:https://dacdb.com/Calendar/Event.cfm?EventID=77853012
STATUS:CONFIRMED
END:VEVENT
BEGIN:VEVENT
UID:77877185@rotaryscrape
DTSTAMP:20260423T165432Z
DTSTART:20260619T080000Z
DTEND:20260619T090000Z
SUMMARY:District Governor Line Meeting
DESCRIPTION:Craig Livingston is inviting you to a scheduled Zoom meeting. Join Zoom Meeting https://us02web.zoom.us/j/87144982182?pwd=xALbqJqnF0cTl2D8ncOfReYBrbhbUK.1  Meeting ID: 871 4498 2182 Passcode: 115832 &nbsp\;
URL:https://dacdb.com/Calendar/Event.cfm?EventID=77877185
STATUS:CONFIRMED
END:VEVENT
BEGIN:VEVENT
UID:77906162@rotaryscrape
DTSTAMP:20260423T165432Z
DTSTART:20260627T173000Z
DTEND:20260627T183000Z
SUMMARY:District Transition Dinner
LOCATION:You are invited to celebrate the close of the Rotary year with us at our District Transition Dinner at The Villa in Orange! Enjoy a tropical dinner buffet featuring teriyaki chicken\, Hawaiian-style pork ribs and more\, plus a no-host bar with beer and wine + soft drinks will be available.&nbsp\;Hawaiian shirts or tropical attire is encouraged!&nbsp\;  Each club has two pre-paid spots. Additional attendees are welcome ($80/each). Register on Dacdb or email lindsay.rotary5320@gmail.com with any questions.&nbsp\; Clubs interested in buying a table/tables (10people/table) can also do so via email.&nbsp\; &nbsp\;Please register by June 17!  Link to Registration &nbsp\;
DESCRIPTION:You are invited to celebrate the close of the Rotary year with us at our District Transition Dinner at The Villa in Orange! Enjoy a tropical dinner buffet featuring teriyaki chicken\, Hawaiian-style pork ribs and more\, plus a no-host bar with beer and wine + soft drinks will be available.&nbsp\;Hawaiian shirts or tropical attire is encouraged!&nbsp\;  Each club has two pre-paid spots. Additional attendees are welcome ($80/each). Register on Dacdb or email lindsay.rotary5320@gmail.com with any questions.&nbsp\; Clubs interested in buying a table/tables (10people/table) can also do so via Dacdb or email.&nbsp\; &nbsp\;Please register by June 17!  Link to Registration  &nbsp\;
URL:https://dacdb.com/Calendar/Event.cfm?EventID=77906162
STATUS:CONFIRMED
END:VEVENT
BEGIN:VEVENT
UID:77853051@rotaryscrape
DTSTAMP:20260423T165432Z
DTSTART:20260722T150000Z
DTEND:20260722T160000Z
SUMMARY:2026 MDP Alliance Annual Meeting Registration
LOCATION:  ANNUAL MEETING REGISTRATION  July 22-23-24\, 2026 One Rotary Center&nbsp\; &nbsp\;Evanston\, IL  &nbsp\;
URL:https://dacdb.com/Calendar/Event.cfm?EventID=77853051
STATUS:CONFIRMED
END:VEVENT
BEGIN:VEVENT
UID:77900389@rotaryscrape
DTSTAMP:20260423T165432Z
DTSTART:20260722T150000Z
DTEND:20260722T160000Z
SUMMARY:2026 MDP Alliance VENDOR Registration
LOCATION:  VENDOR ONLY REGISTRATION &amp\; PAYMENT  July 22-23-24\, 2026 One Rotary Center&nbsp\; &nbsp\;Evanston\, IL  &nbsp\;
URL:https://dacdb.com/Calendar/Event.cfm?EventID=77900389
STATUS:CONFIRMED
END:VEVENT
END:VCALENDAR
